BEGIN:VCALENDAR
VERSION:2.0
PRODID:-//Marinos. - ECPv6.15.6//NONSGML v1.0//EN
CALSCALE:GREGORIAN
METHOD:PUBLISH
X-WR-CALNAME:Marinos.
X-ORIGINAL-URL:https://marinos.es
X-WR-CALDESC:Eventos para Marinos.
REFRESH-INTERVAL;VALUE=DURATION:PT1H
X-Robots-Tag:noindex
X-PUBLISHED-TTL:PT1H
BEGIN:VTIMEZONE
TZID:Europe/Madrid
BEGIN:DAYLIGHT
TZOFFSETFROM:+0100
TZOFFSETTO:+0200
TZNAME:CEST
DTSTART:20230326T010000
END:DAYLIGHT
BEGIN:STANDARD
TZOFFSETFROM:+0200
TZOFFSETTO:+0100
TZNAME:CET
DTSTART:20231029T010000
END:STANDARD
BEGIN:DAYLIGHT
TZOFFSETFROM:+0100
TZOFFSETTO:+0200
TZNAME:CEST
DTSTART:20240331T010000
END:DAYLIGHT
BEGIN:STANDARD
TZOFFSETFROM:+0200
TZOFFSETTO:+0100
TZNAME:CET
DTSTART:20241027T010000
END:STANDARD
BEGIN:DAYLIGHT
TZOFFSETFROM:+0100
TZOFFSETTO:+0200
TZNAME:CEST
DTSTART:20250330T010000
END:DAYLIGHT
BEGIN:STANDARD
TZOFFSETFROM:+0200
TZOFFSETTO:+0100
TZNAME:CET
DTSTART:20251026T010000
END:STANDARD
END:VTIMEZONE
BEGIN:VEVENT
DTSTART;TZID=Europe/Madrid:20241025T100000
DTEND;TZID=Europe/Madrid:20241026T190000
DTSTAMP:20260419T191032
CREATED:20160518T100505Z
LAST-MODIFIED:20250929T105243Z
UID:1934-1729850400-1729969200@marinos.es
SUMMARY:Prácticas de Vela -Cádiz-
DESCRIPTION:Prácticas de Navegación a Vela en Cádiz\, para todos los títulos náuticos de recreo: \n\nPNB\nPER\nPatrón de yate\nCapitán de yate\n\nLas prácticas de habilitación a vela en todos los títulos. Solo es necesaria realizarla una vez. Estas prácticas son obligatorias para navegar a en velero\, según lo dispuesto en el Real Decreto 875/2014. \nPrácticas de vela para PER y Patrón de yate\nSomos marinos y nos gusta navegar\, por eso ofrecemos unas prácticas de vela para los títulos de PNB\, PER y títulos superiores de Patrón y Capitán de yate con las que aprender a navegar en barcos velerosy realizar maniobras a bordo de un espectacular velero. Academia Náutica Marinos\, junto con la Escuela de navegación Taboga\, te ofrecen la oportunidad de participar en unas prácticas homologadas en una embarcación acreditada ante el Instituto Andaluz del Deporte. Una experiencia que va más allá de la formación y que se sirve para completar tu título y mejorar las atribuciones. Si te gusta navegar\, te gustará lo que te vamos a enseñar. \nSomos la única escuela náutica que realiza prácticas de vela en Cádiz. Así continuamos una tradición de varios siglos iniciada por la primera escuela de marinos de España\, de la que nos sentimos orgullosos sucesores. \nPrácticas de vela en Cádiz\nDesarrollo de las prácticas\nLas prácticas en velero en Cádiz siguen el programa marcado por el Real Decreto 875/2014 sobre titulaciones náuticas de recreo. El periodo práctico de formación tiene una duración de 16 horas\, así las prácticas se imparten a lo largo de dos días\, en jornadas de 8 horas\, a las que se suma un descanso intermedio. \nDurante las prácticas de navegación aprendes: \n\nTeoría de la navegación\nConocimientos de jarcias y velería\nManiobras: trasluchada\, virada\, navegación a vela\, nudos\, cuidado de la velería…\nManiobras de seguridad en navegación\n\nHorario estimado: SABADO y DOMINGO de 10:00 a 19:00 \nNo te lo pienses más. Puedes mejorar tu título de PNB\, PER\, PY y CY con las prácticas de vela que hacemos en Cádiz. Infórmate en el formulario de contacto\, el correo electrónico info@marinos.es o llamando a 635 632 505. ¡Te estamos esperando!
URL:https://marinos.es/evento/practicas-de-vela/
LOCATION:RCN Cádiz\, Av. Nuevo Mundo 1 - Punta San Felipe - 11004\, Cádiz
CATEGORIES:Prácticas
ATTACH;FMTTYPE=image/jpeg:https://marinos.es/wp-content/uploads/Cursos-náuticos-y-prácticas-homologadas-Academia-náutica-MARINOS-Huelva-y-Sevilla.jpg
ORGANIZER;CN="Carmen":MAILTO:info@marinos.es
END:VEVENT
END:VCALENDAR