BEGIN:VCALENDAR
VERSION:2.0
PRODID:-//Marinos. - ECPv6.15.6//NONSGML v1.0//EN
CALSCALE:GREGORIAN
METHOD:PUBLISH
X-ORIGINAL-URL:https://marinos.es
X-WR-CALDESC:Eventos para Marinos.
REFRESH-INTERVAL;VALUE=DURATION:PT1H
X-Robots-Tag:noindex
X-PUBLISHED-TTL:PT1H
BEGIN:VTIMEZONE
TZID:Europe/Madrid
BEGIN:DAYLIGHT
TZOFFSETFROM:+0100
TZOFFSETTO:+0200
TZNAME:CEST
DTSTART:20240331T010000
END:DAYLIGHT
BEGIN:STANDARD
TZOFFSETFROM:+0200
TZOFFSETTO:+0100
TZNAME:CET
DTSTART:20241027T010000
END:STANDARD
BEGIN:DAYLIGHT
TZOFFSETFROM:+0100
TZOFFSETTO:+0200
TZNAME:CEST
DTSTART:20250330T010000
END:DAYLIGHT
BEGIN:STANDARD
TZOFFSETFROM:+0200
TZOFFSETTO:+0100
TZNAME:CET
DTSTART:20251026T010000
END:STANDARD
BEGIN:DAYLIGHT
TZOFFSETFROM:+0100
TZOFFSETTO:+0200
TZNAME:CEST
DTSTART:20260329T010000
END:DAYLIGHT
BEGIN:STANDARD
TZOFFSETFROM:+0200
TZOFFSETTO:+0100
TZNAME:CET
DTSTART:20261025T010000
END:STANDARD
END:VTIMEZONE
BEGIN:VEVENT
DTSTART;TZID=Europe/Madrid:20250629T090000
DTEND;TZID=Europe/Madrid:20250629T150000
DTSTAMP:20260419T150635
CREATED:20250324T123233Z
LAST-MODIFIED:20250611T144950Z
UID:54829-1751187600-1751209200@marinos.es
SUMMARY:Licencia de navegación en Sotogrande
DESCRIPTION:Curso de Licencia de navegación en Sotogrande (Cádiz)\, para la obtención del “titulín”. Con este curso náutico adquieres los conocimientos básicos y la habilitación para el manejo de embarcaciones de recreo. Adicionalmente puedes navegar llevando motos de agua. Se trata de una formación presencial\, que incluye una parte teórica y otra parte práctica\, a bordo de un barco escuela. Al finalizar el curso estarás en poseción de una Licencia de navegación oficial\, válida en toda España y otros países. \nAtribuciones\nCon la Licencia de navegación o Titulín podrás ser patrón de: \n\nBarcos de recreo de hasta 6 metros de eslora\nMotos náuticas (todas las potencias)\n\nEn el caso de las embarcaciones\, el curso de Licencia de Navegación en Sotogrande te permite alejarte un máximo de 2 millas náuticas desde puerto. Esto equivale a unos 3\,6 kilómetros -a contar desde el espigón del puerto. Ten en cuenta\, que para navegar de un puerto a otro\, la distancia total que separe dichas instalaciones marítimas no puede ser superior a 4 millas. Y la navegación es eminentemente costera. \nLa licencia de navegació o titulín solo permite la navegación diurna. No está permitido navegar de noche con esta titulación náutica. \nRecuerda que también habilita para ser patrón de motos de agua\, sin límite de potencia. La distancia de navegación desde costa la establece cada Capitanía Marítima. Por lo que es aconsejable consultar con la autoridades portuarias las condiciones de navegación. \nContenido de la Licencia de navegación en Sotogrande\nEl curso de Licencia de navegación se realiza teniendo como punto de salida el Puerto Deportivo de Sotogrande. Tiene una duración de 6 horas\, incluyendo para parte teórica y práctica. \nLa formación cuenta con una parte teórica\, en la que se hablan y explican aspectos como: \n\nNavegación en las proximidades de playas o otros tramos de costa\nUso de canales de acceso\nNormativa general de aplicación a nivel marítimo y de tráfico portuario\nSistema de ayudas a la navegación por balizas marítimas\nGobierno de la embarcación y precausiones\nNormas seleccionadas del reglamento de navegación\nInformación básica sobre comunicaciones marítimas y uso de equipos de VHF\n\nLa formación se imparte en aula y en la embarcación\, donde\, además\, se realiza un adiestramiento práctico con contenidos como: \n\nRevisión de elementos de seguridad y comprobaciones previas a la navegación\nConocimientos básicos del motor y su funcionamiento\nNudos marineros básicos\nAtraque y salida de puerto\, además de la velocidad de seguridad\nFondeo y recogida del ancla\nAtención a buzos y usuarios de playas\nGobierno básico de la embarcación\n\nCómo reservar plaza en el curso de Titulín en Sotogrande\nSi quieres participar en el próximo curso disponible y obtener el carné de Licencia de navegación o Titulín\, ponte en contacto con nosotros: \n\nTeléfono: 635 632 505\nCorreo: info@marinos.es\n\nTe confirmaremos la disponibilidad y te daremos los detalles que necesitas saber. Ten en cuenta que las reservas se cierran 2 días antes. \nImportante: el día del curso debes aportar un reconocimiento médico emitido por un centro médico de conductores. \nLa licencia de navegación no tiene caducidad. Es indefinida. ¡ANÍMATE!
URL:https://marinos.es/evento/licencia-de-navegacion-en-sotogrande/
LOCATION:Puerto deportivo Sotogrande\, Avenida de la Marina\, SN\, Sotogrande\, Cádiz\, 11310\, España
ATTACH;FMTTYPE=image/jpeg:https://marinos.es/wp-content/uploads/Licencia-de-navegacion-en-Sotogrande.jpg
ORGANIZER;CN="Carmen":MAILTO:info@marinos.es
END:VEVENT
END:VCALENDAR